BEGIN:VCALENDAR
VERSION:2.0
PRODID:calendify.com
BEGIN:VEVENT
UID:calendify-session-BmE4oaQwMPQ
DTSTART:20230609T150000Z
SEQUENCE:0
TRANSP:OPAQUE
DTEND:20230609T190000Z
URL:https://calendify.com/session/BmE4oaQwMPQ
LOCATION:Outdoor-Stage
SUMMARY:Open Stage
CLASS:PUBLIC
DESCRIPTION:https://calendify.com/session/BmE4oaQwMPQ
DTSTAMP:20260420T201159Z
CREATED:20230604T134036Z
LAST-MODIFIED:20230611T215002Z
END:VEVENT
END:VCALENDAR