BEGIN:VCALENDAR
VERSION:2.0
PRODID:calendify.com
BEGIN:VEVENT
UID:calendify-session-BmE4oajJMPQ
DTSTART:20221228T220000Z
SEQUENCE:0
TRANSP:OPAQUE
DTEND:20221228T223000Z
URL:https://calendify.com/session/BmE4oajJMPQ
LOCATION:xrelog22 - Stream
SUMMARY:mafifa - WM 2030 (1: Auslosung)
CLASS:PUBLIC
DESCRIPTION:https://calendify.com/session/BmE4oajJMPQ
DTSTAMP:20260423T190809Z
CREATED:20221218T163048Z
LAST-MODIFIED:20221230T225007Z
END:VEVENT
END:VCALENDAR