BEGIN:VCALENDAR
VERSION:2.0
PRODID:calendify.com
BEGIN:VEVENT
UID:calendify-session-BmE4oapZMPQ
DTSTART:20221226T090000Z
SEQUENCE:0
TRANSP:OPAQUE
DTEND:20221226T150000Z
URL:https://calendify.com/session/BmE4oapZMPQ
LOCATION:Ausstellungsraum 4 - H2-3.3
SUMMARY:seltsam & klein
CLASS:PUBLIC
DESCRIPTION:https://calendify.com/session/BmE4oapZMPQ
DTSTAMP:20260423T174552Z
CREATED:20221222T170030Z
LAST-MODIFIED:20221230T225007Z
END:VEVENT
END:VCALENDAR