BEGIN:VCALENDAR
VERSION:2.0
PRODID:calendify.com
BEGIN:VEVENT
UID:calendify-session-BmE4oj7DgPQ
DTSTART:20210206T133000Z
SEQUENCE:0
TRANSP:OPAQUE
DTEND:20210206T141500Z
URL:https://calendify.com/session/BmE4oj7DgPQ
LOCATION:D.mozilla
SUMMARY:Rethinking the Biggest Developer Resource on the Web
CLASS:PUBLIC
DESCRIPTION:https://calendify.com/session/BmE4oj7DgPQ
DTSTAMP:20260423T190759Z
CREATED:20210125T190820Z
LAST-MODIFIED:20210208T224802Z
END:VEVENT
END:VCALENDAR