BEGIN:VCALENDAR
VERSION:2.0
PRODID:calendify.com
BEGIN:VEVENT
UID:calendify-session-BmE4ojELgPQ
DTSTART:20210207T113000Z
SEQUENCE:0
TRANSP:OPAQUE
DTEND:20210207T120000Z
URL:https://calendify.com/session/BmE4ojELgPQ
LOCATION:D.community
SUMMARY:How I Learned to Stop Worrying and Love Doing Less
CLASS:PUBLIC
DESCRIPTION:https://calendify.com/session/BmE4ojELgPQ
DTSTAMP:20260422T164814Z
CREATED:20210111T170319Z
LAST-MODIFIED:20210208T224803Z
END:VEVENT
END:VCALENDAR