BEGIN:VCALENDAR
VERSION:2.0
PRODID:calendify.com
BEGIN:VEVENT
UID:calendify-session-BmE4ojKJgPQ
DTSTART:20210207T093000Z
SEQUENCE:0
TRANSP:OPAQUE
DTEND:20210207T100000Z
URL:https://calendify.com/session/BmE4ojKJgPQ
LOCATION:D.hpc
SUMMARY:Scalable\, Automated ML Model Monitoring with KFServing and Hopswor
 ks
CLASS:PUBLIC
DESCRIPTION:https://calendify.com/session/BmE4ojKJgPQ
DTSTAMP:20260423T174911Z
CREATED:20210111T170320Z
LAST-MODIFIED:20210208T224804Z
END:VEVENT
END:VCALENDAR