BEGIN:VCALENDAR
VERSION:2.0
PRODID:calendify.com
BEGIN:VEVENT
UID:calendify-session-BmE4ojXXgPQ
DTSTART:20210207T130000Z
SEQUENCE:0
TRANSP:OPAQUE
DTEND:20210207T132000Z
URL:https://calendify.com/session/BmE4ojXXgPQ
LOCATION:L.lightningtalks
SUMMARY:An I2P-based\, fully distributed Bank
CLASS:PUBLIC
DESCRIPTION:https://calendify.com/session/BmE4ojXXgPQ
DTSTAMP:20260419T164936Z
CREATED:20210114T155443Z
LAST-MODIFIED:20210208T224803Z
END:VEVENT
END:VCALENDAR