BEGIN:VCALENDAR
VERSION:2.0
PRODID:calendify.com
BEGIN:VEVENT
UID:calendify-session-BmE4op6JOPQ
DTSTART:20220206T090000Z
SEQUENCE:0
TRANSP:OPAQUE
DTEND:20220206T092500Z
URL:https://calendify.com/session/BmE4op6JOPQ
LOCATION:D.mysql
SUMMARY:Flame Graphs for MySQL DBAs
CLASS:PUBLIC
DESCRIPTION:https://calendify.com/session/BmE4op6JOPQ
DTSTAMP:20260423T110505Z
CREATED:20220120T214608Z
LAST-MODIFIED:20220206T225004Z
END:VEVENT
END:VCALENDAR