BEGIN:VCALENDAR
VERSION:2.0
PRODID:calendify.com
BEGIN:VEVENT
UID:calendify-session-BmE4opDXOPQ
DTSTART:20220610T133000Z
SEQUENCE:0
TRANSP:OPAQUE
DTEND:20220610T140000Z
URL:https://calendify.com/session/BmE4opDXOPQ
LOCATION:Lightning Box 1
SUMMARY:OPENER next – Nächster Halt: Barrierefreiheit!
CLASS:PUBLIC
DESCRIPTION:https://calendify.com/session/BmE4opDXOPQ
DTSTAMP:20260423T133940Z
CREATED:20220526T162949Z
LAST-MODIFIED:20220613T235205Z
END:VEVENT
END:VCALENDAR