BEGIN:VCALENDAR
VERSION:2.0
PRODID:calendify.com
BEGIN:VEVENT
UID:calendify-session-BmE4opjaOPQ
DTSTART:20220417T214500Z
SEQUENCE:0
TRANSP:OPAQUE
DTEND:20220417T224500Z
URL:https://calendify.com/session/BmE4opjaOPQ
LOCATION:Mainstream
SUMMARY:Mijk van Dijk - DJ Set
CLASS:PUBLIC
DESCRIPTION:https://calendify.com/session/BmE4opjaOPQ
DTSTAMP:20260422T140840Z
CREATED:20220412T210102Z
LAST-MODIFIED:20220416T215002Z
END:VEVENT
END:VCALENDAR