BEGIN:VCALENDAR
VERSION:2.0
PRODID:calendify.com
BEGIN:VEVENT
UID:calendify-session-BmE4oppXOPQ
DTSTART:20161227T103000Z
SEQUENCE:0
TRANSP:OPAQUE
DTEND:20161227T113000Z
URL:https://calendify.com/session/BmE4oppXOPQ
LOCATION:Saal 1
SUMMARY:The Global Assassination Grid
CLASS:PUBLIC
DESCRIPTION:https://calendify.com/session/BmE4oppXOPQ
DTSTAMP:20260422T095047Z
CREATED:20220415T135302Z
LAST-MODIFIED:20220415T135302Z
END:VEVENT
END:VCALENDAR