BEGIN:VCALENDAR
VERSION:2.0
PRODID:calendify.com
BEGIN:VEVENT
UID:calendify-session-BmE4oprLOPQ
DTSTART:20220206T141000Z
SEQUENCE:0
TRANSP:OPAQUE
DTEND:20220206T144000Z
URL:https://calendify.com/session/BmE4oprLOPQ
LOCATION:D.kotlin
SUMMARY:Navigating between Composables
CLASS:PUBLIC
DESCRIPTION:https://calendify.com/session/BmE4oprLOPQ
DTSTAMP:20260420T081242Z
CREATED:20220120T214608Z
LAST-MODIFIED:20220206T225004Z
END:VEVENT
END:VCALENDAR