BEGIN:VCALENDAR
VERSION:2.0
PRODID:calendify.com
BEGIN:VEVENT
UID:calendify-session-BmE4oyEDMPQ
DTSTART:20190531T140000Z
SEQUENCE:0
TRANSP:OPAQUE
DTEND:20190531T160000Z
URL:https://calendify.com/session/BmE4oyEDMPQ
LOCATION:Lounge
SUMMARY:Madonius
CLASS:PUBLIC
DESCRIPTION:https://calendify.com/session/BmE4oyEDMPQ
DTSTAMP:20260420T183745Z
CREATED:20200509T115110Z
LAST-MODIFIED:20200509T115110Z
END:VEVENT
END:VCALENDAR