BEGIN:VCALENDAR
VERSION:2.0
PRODID:calendify.com
BEGIN:VEVENT
UID:calendify-session-BmE4oyoXMPQ
DTSTART:20200202T110500Z
SEQUENCE:0
TRANSP:OPAQUE
DTEND:20200202T112500Z
URL:https://calendify.com/session/BmE4oyoXMPQ
LOCATION:AW1.126
SUMMARY:Testing Navit using Device Farms
CLASS:PUBLIC
DESCRIPTION:https://calendify.com/session/BmE4oyoXMPQ
DTSTAMP:20260422T153310Z
CREATED:20200513T234734Z
LAST-MODIFIED:20210426T093310Z
END:VEVENT
END:VCALENDAR