BEGIN:VCALENDAR
VERSION:2.0
PRODID:calendify.com
BEGIN:VEVENT
UID:calendify-session-E304G133MxA
DTSTART:20260201T093000Z
SEQUENCE:0
TRANSP:OPAQUE
DTEND:20260201T095000Z
URL:https://calendify.com/session/E304G133MxA
LOCATION:UB5.230
SUMMARY:Companies vs. Foundations: Who Should Steer Your Open Source Projec
 t?
CLASS:PUBLIC
DESCRIPTION:https://calendify.com/session/E304G133MxA
DTSTAMP:20260424T083609Z
CREATED:20260131T063322Z
LAST-MODIFIED:20260201T163232Z
END:VEVENT
END:VCALENDAR