BEGIN:VCALENDAR
VERSION:2.0
PRODID:calendify.com
BEGIN:VEVENT
UID:calendify-session-E304G1wKMxA
DTSTART:20260131T111000Z
SEQUENCE:0
TRANSP:OPAQUE
DTEND:20260131T111500Z
URL:https://calendify.com/session/E304G1wKMxA
LOCATION:UB2.147
SUMMARY:Just1 - An Open-Source Autonomous Mecanum Wheel Robot
CLASS:PUBLIC
DESCRIPTION:https://calendify.com/session/E304G1wKMxA
DTSTAMP:20260424T140012Z
CREATED:20260131T063253Z
LAST-MODIFIED:20260201T163222Z
END:VEVENT
END:VCALENDAR