BEGIN:VCALENDAR
VERSION:2.0
PRODID:calendify.com
BEGIN:VEVENT
UID:calendify-session-E304G23qgxA
DTSTART:20231227T180000Z
SEQUENCE:0
TRANSP:OPAQUE
DTEND:20231227T190000Z
URL:https://calendify.com/session/E304G23qgxA
LOCATION:Lounge
SUMMARY:Live-Performance eines DIY-Instruments: Die Laserharfe
CLASS:PUBLIC
DESCRIPTION:https://calendify.com/session/E304G23qgxA
DTSTAMP:20260423T055945Z
CREATED:20231226T173002Z
LAST-MODIFIED:20240401T142932Z
END:VEVENT
END:VCALENDAR