BEGIN:VCALENDAR
VERSION:2.0
PRODID:calendify.com
BEGIN:VEVENT
UID:calendify-session-E304G251gxA
DTSTART:20231229T030000Z
SEQUENCE:0
TRANSP:OPAQUE
DTEND:20231229T050000Z
URL:https://calendify.com/session/E304G251gxA
LOCATION:Lounge
SUMMARY:steffen bennemann
CLASS:PUBLIC
DESCRIPTION:https://calendify.com/session/E304G251gxA
DTSTAMP:20260423T015915Z
CREATED:20231228T212002Z
LAST-MODIFIED:20240401T142932Z
END:VEVENT
END:VCALENDAR