BEGIN:VCALENDAR
VERSION:2.0
PRODID:calendify.com
BEGIN:VEVENT
UID:calendify-session-E304G25NgxA
DTSTART:20231229T120000Z
SEQUENCE:0
TRANSP:OPAQUE
DTEND:20231229T123000Z
URL:https://calendify.com/session/E304G25NgxA
LOCATION:Freie Arbeiter*innen Union (FAU)
SUMMARY:Arbeitgeber*innen hassen diesen Trick\" - Was ist die FAU?
CLASS:PUBLIC
DESCRIPTION:https://calendify.com/session/E304G25NgxA
DTSTAMP:20260423T031250Z
CREATED:20231228T172002Z
LAST-MODIFIED:20240401T142933Z
END:VEVENT
END:VCALENDAR