BEGIN:VCALENDAR
VERSION:2.0
PRODID:calendify.com
BEGIN:VEVENT
UID:calendify-session-E304G26ngxA
DTSTART:20240530T160000Z
SEQUENCE:0
TRANSP:OPAQUE
DTEND:20240530T170000Z
URL:https://calendify.com/session/E304G26ngxA
LOCATION:HfG Raum 112
SUMMARY:Die Verschlüsselung von Nextcloud verstehen und kaputte Dateien re
 tten
CLASS:PUBLIC
DESCRIPTION:https://calendify.com/session/E304G26ngxA
DTSTAMP:20260424T122423Z
CREATED:20240531T122738Z
LAST-MODIFIED:20240602T132303Z
END:VEVENT
END:VCALENDAR