BEGIN:VCALENDAR
VERSION:2.0
PRODID:calendify.com
BEGIN:VEVENT
UID:calendify-session-E304G275gxA
DTSTART:20231229T134500Z
SEQUENCE:0
TRANSP:OPAQUE
DTEND:20231229T144500Z
URL:https://calendify.com/session/E304G275gxA
LOCATION:Saal Granville
SUMMARY:Finding Vulnerabilities in Internet-Connected Devices
CLASS:PUBLIC
DESCRIPTION:https://calendify.com/session/E304G275gxA
DTSTAMP:20260423T015845Z
CREATED:20231215T204820Z
LAST-MODIFIED:20240401T142932Z
END:VEVENT
END:VCALENDAR