BEGIN:VCALENDAR
VERSION:2.0
PRODID:calendify.com
BEGIN:VEVENT
UID:calendify-session-E304G2B1gxA
DTSTART:20230723T090000Z
SEQUENCE:0
TRANSP:OPAQUE
DTEND:20230723T100000Z
URL:https://calendify.com/session/E304G2B1gxA
LOCATION:woanders
SUMMARY:Schmieden auf der IGER
CLASS:PUBLIC
DESCRIPTION:https://calendify.com/session/E304G2B1gxA
DTSTAMP:20260422T095728Z
CREATED:20230806T113705Z
LAST-MODIFIED:20230806T113705Z
END:VEVENT
END:VCALENDAR