BEGIN:VCALENDAR
VERSION:2.0
PRODID:calendify.com
BEGIN:VEVENT
UID:calendify-session-E304G2DXgxA
DTSTART:20231229T223000Z
SEQUENCE:0
TRANSP:OPAQUE
DTEND:20231229T231500Z
URL:https://calendify.com/session/E304G2DXgxA
LOCATION:Sendezentrum Stage (Saal F)
SUMMARY:Och Menno - Military Grade Bullshit
CLASS:PUBLIC
DESCRIPTION:https://calendify.com/session/E304G2DXgxA
DTSTAMP:20260423T043809Z
CREATED:20231224T230004Z
LAST-MODIFIED:20240401T142932Z
END:VEVENT
END:VCALENDAR