BEGIN:VCALENDAR
VERSION:2.0
PRODID:calendify.com
BEGIN:VEVENT
UID:calendify-session-E304G2J5gxA
DTSTART:20231228T210500Z
SEQUENCE:0
TRANSP:OPAQUE
DTEND:20231228T214500Z
URL:https://calendify.com/session/E304G2J5gxA
LOCATION:Saal 1
SUMMARY:Decentralized energy production: green future or cybersecurity nigh
 tmare?
CLASS:PUBLIC
DESCRIPTION:https://calendify.com/session/E304G2J5gxA
DTSTAMP:20260423T055903Z
CREATED:20231215T204820Z
LAST-MODIFIED:20240401T142932Z
END:VEVENT
END:VCALENDAR