BEGIN:VCALENDAR
VERSION:2.0
PRODID:calendify.com
BEGIN:VEVENT
UID:calendify-session-E304G2LXgxA
DTSTART:20231228T120000Z
SEQUENCE:0
TRANSP:OPAQUE
DTEND:20231228T133000Z
URL:https://calendify.com/session/E304G2LXgxA
LOCATION:Saal E
SUMMARY:Demokratische Schule - wahrs. Deutschlands radikalste Schule
CLASS:PUBLIC
DESCRIPTION:https://calendify.com/session/E304G2LXgxA
DTSTAMP:20260423T015840Z
CREATED:20231221T182738Z
LAST-MODIFIED:20240401T142932Z
END:VEVENT
END:VCALENDAR