BEGIN:VCALENDAR
VERSION:2.0
PRODID:calendify.com
BEGIN:VEVENT
UID:calendify-session-E304G2Q3gxA
DTSTART:20240330T150000Z
SEQUENCE:0
TRANSP:OPAQUE
DTEND:20240330T160000Z
URL:https://calendify.com/session/E304G2Q3gxA
LOCATION:Walhacka - D002
SUMMARY:Democratizing how we access networks through a universal Router
CLASS:PUBLIC
DESCRIPTION:https://calendify.com/session/E304G2Q3gxA
DTSTAMP:20260423T135113Z
CREATED:20240328T125150Z
LAST-MODIFIED:20240401T142841Z
END:VEVENT
END:VCALENDAR