BEGIN:VCALENDAR
VERSION:2.0
PRODID:calendify.com
BEGIN:VEVENT
UID:calendify-session-E304G2WZgxA
DTSTART:20231227T163000Z
SEQUENCE:0
TRANSP:OPAQUE
DTEND:20231227T170000Z
URL:https://calendify.com/session/E304G2WZgxA
LOCATION:Stage Y
SUMMARY:Social Rejection Games [90 min duration\, 30 min of it at Stage of 
 Y]
CLASS:PUBLIC
DESCRIPTION:https://calendify.com/session/E304G2WZgxA
DTSTAMP:20260423T031034Z
CREATED:20231226T053002Z
LAST-MODIFIED:20240401T142932Z
END:VEVENT
END:VCALENDAR