BEGIN:VCALENDAR
VERSION:2.0
PRODID:calendify.com
BEGIN:VEVENT
UID:calendify-session-E304G2YKgxA
DTSTART:20231228T152000Z
SEQUENCE:0
TRANSP:OPAQUE
DTEND:20231228T165000Z
URL:https://calendify.com/session/E304G2YKgxA
LOCATION:Stonewall IO
SUMMARY:Offene Workshop-Sessions Tag 2 | Open workshop sessions day 2
CLASS:PUBLIC
DESCRIPTION:https://calendify.com/session/E304G2YKgxA
DTSTAMP:20260425T040730Z
CREATED:20231219T100105Z
LAST-MODIFIED:20240401T142932Z
END:VEVENT
END:VCALENDAR