BEGIN:VCALENDAR
VERSION:2.0
PRODID:calendify.com
BEGIN:VEVENT
UID:calendify-session-E304G2vqgxA
DTSTART:20231229T160000Z
SEQUENCE:0
TRANSP:OPAQUE
DTEND:20231229T170000Z
URL:https://calendify.com/session/E304G2vqgxA
LOCATION:Lounge
SUMMARY:Ptelepathetique - live concert
CLASS:PUBLIC
DESCRIPTION:https://calendify.com/session/E304G2vqgxA
DTSTAMP:20260423T055232Z
CREATED:20231227T012003Z
LAST-MODIFIED:20240401T142932Z
END:VEVENT
END:VCALENDAR