BEGIN:VCALENDAR
VERSION:2.0
PRODID:calendify.com
BEGIN:VEVENT
UID:calendify-session-E304G2yNgxA
DTSTART:20231228T230000Z
SEQUENCE:0
TRANSP:OPAQUE
DTEND:20231229T013000Z
URL:https://calendify.com/session/E304G2yNgxA
LOCATION:Chillout Lounge
SUMMARY:Loa Mauna (Dj)
CLASS:PUBLIC
DESCRIPTION:https://calendify.com/session/E304G2yNgxA
DTSTAMP:20260423T044100Z
CREATED:20231227T024002Z
LAST-MODIFIED:20240401T142932Z
END:VEVENT
END:VCALENDAR