BEGIN:VCALENDAR
VERSION:2.0
PRODID:calendify.com
BEGIN:VEVENT
UID:calendify-session-E304G9rpMxA
DTSTART:20241228T100000Z
SEQUENCE:0
TRANSP:OPAQUE
DTEND:20241228T103000Z
URL:https://calendify.com/session/E304G9rpMxA
LOCATION:Saal A - Lötstationen Station 1
SUMMARY:LED-Klammern löten
CLASS:PUBLIC
DESCRIPTION:https://calendify.com/session/E304G9rpMxA
DTSTAMP:20260424T015214Z
CREATED:20241227T141507Z
LAST-MODIFIED:20250101T225002Z
END:VEVENT
END:VCALENDAR