BEGIN:VCALENDAR
VERSION:2.0
PRODID:calendify.com
BEGIN:VEVENT
UID:calendify-session-E304G9wqMxA
DTSTART:20241230T130000Z
SEQUENCE:0
TRANSP:OPAQUE
DTEND:20241230T132500Z
URL:https://calendify.com/session/E304G9wqMxA
LOCATION:UAct! Assembly
SUMMARY:Before there was #metoo
CLASS:PUBLIC
DESCRIPTION:https://calendify.com/session/E304G9wqMxA
DTSTAMP:20260423T140141Z
CREATED:20241227T141516Z
LAST-MODIFIED:20250101T225005Z
END:VEVENT
END:VCALENDAR