BEGIN:VCALENDAR
VERSION:2.0
PRODID:calendify.com
BEGIN:VEVENT
UID:calendify-session-E304GA0qMxA
DTSTART:20220724T170000Z
SEQUENCE:0
TRANSP:OPAQUE
DTEND:20220724T175000Z
URL:https://calendify.com/session/E304GA0qMxA
LOCATION:Battery 🔋
SUMMARY:Finding 0days in Enterprise Web Applications
CLASS:PUBLIC
DESCRIPTION:https://calendify.com/session/E304GA0qMxA
DTSTAMP:20260424T024645Z
CREATED:20220620T212434Z
LAST-MODIFIED:20220726T182703Z
END:VEVENT
END:VCALENDAR