BEGIN:VCALENDAR
VERSION:2.0
PRODID:calendify.com
BEGIN:VEVENT
UID:calendify-session-E304GA2ZMxA
DTSTART:20161229T150000Z
SEQUENCE:0
TRANSP:OPAQUE
DTEND:20161229T160000Z
URL:https://calendify.com/session/E304GA2ZMxA
LOCATION:Saal 1
SUMMARY:Making Technology Inclusive Through Papercraft and Sound
CLASS:PUBLIC
DESCRIPTION:https://calendify.com/session/E304GA2ZMxA
DTSTAMP:20260420T172047Z
CREATED:20220415T135303Z
LAST-MODIFIED:20220415T135303Z
END:VEVENT
END:VCALENDAR