BEGIN:VCALENDAR
VERSION:2.0
PRODID:calendify.com
BEGIN:VEVENT
UID:calendify-session-E304GA3dMxA
DTSTART:20220609T133000Z
SEQUENCE:0
TRANSP:OPAQUE
DTEND:20220609T143000Z
URL:https://calendify.com/session/E304GA3dMxA
LOCATION:Meetup Blue
SUMMARY:Human friendly automation?! Ein neuer Leitstern für nachhaltige KI
  und mehr Empowerment in der digitalen Arbeitswelt.
CLASS:PUBLIC
DESCRIPTION:https://calendify.com/session/E304GA3dMxA
DTSTAMP:20260423T122120Z
CREATED:20220526T162945Z
LAST-MODIFIED:20220613T235204Z
END:VEVENT
END:VCALENDAR