BEGIN:VCALENDAR
VERSION:2.0
PRODID:calendify.com
BEGIN:VEVENT
UID:calendify-session-E304GA6ZMxA
DTSTART:20220609T103000Z
SEQUENCE:0
TRANSP:OPAQUE
DTEND:20220609T113000Z
URL:https://calendify.com/session/E304GA6ZMxA
LOCATION:Lightning Box 2
SUMMARY:Wie Lügen die Welt vergiften
CLASS:PUBLIC
DESCRIPTION:https://calendify.com/session/E304GA6ZMxA
DTSTAMP:20260423T105606Z
CREATED:20220605T230943Z
LAST-MODIFIED:20220613T235204Z
END:VEVENT
END:VCALENDAR