BEGIN:VCALENDAR
VERSION:2.0
PRODID:calendify.com
BEGIN:VEVENT
UID:calendify-session-E304GA9qMxA
DTSTART:20151228T103000Z
SEQUENCE:0
TRANSP:OPAQUE
DTEND:20151228T123000Z
URL:https://calendify.com/session/E304GA9qMxA
LOCATION:Hall 1
SUMMARY:Jahresrückblick des CCC
CLASS:PUBLIC
DESCRIPTION:https://calendify.com/session/E304GA9qMxA
DTSTAMP:20260423T211202Z
CREATED:20220415T142917Z
LAST-MODIFIED:20220415T142917Z
END:VEVENT
END:VCALENDAR