BEGIN:VCALENDAR
VERSION:2.0
PRODID:calendify.com
BEGIN:VEVENT
UID:calendify-session-E304GAQKMxA
DTSTART:20220611T133000Z
SEQUENCE:0
TRANSP:OPAQUE
DTEND:20220611T141500Z
URL:https://calendify.com/session/E304GAQKMxA
LOCATION:The .txt Beach
SUMMARY:Kleinste literarische Teilchen und wo sie zu finden sind
CLASS:PUBLIC
DESCRIPTION:https://calendify.com/session/E304GAQKMxA
DTSTAMP:20260423T190845Z
CREATED:20220526T162948Z
LAST-MODIFIED:20220613T235204Z
END:VEVENT
END:VCALENDAR