BEGIN:VCALENDAR
VERSION:2.0
PRODID:calendify.com
BEGIN:VEVENT
UID:calendify-session-E304GAY1MxA
DTSTART:20220521T113000Z
SEQUENCE:0
TRANSP:OPAQUE
DTEND:20220521T123000Z
URL:https://calendify.com/session/E304GAY1MxA
LOCATION:Vortragssaal
SUMMARY:⚠️ May Contain Hackers 2022 - (Orga) Meet and Greet
CLASS:PUBLIC
DESCRIPTION:https://calendify.com/session/E304GAY1MxA
DTSTAMP:20260420T184346Z
CREATED:20220515T174341Z
LAST-MODIFIED:20220521T215002Z
END:VEVENT
END:VCALENDAR