BEGIN:VCALENDAR
VERSION:2.0
PRODID:calendify.com
BEGIN:VEVENT
UID:calendify-session-E304GAmXMxA
DTSTART:20220609T084500Z
SEQUENCE:0
TRANSP:OPAQUE
DTEND:20220609T090000Z
URL:https://calendify.com/session/E304GAmXMxA
LOCATION:Stage 1
SUMMARY:Gespräch mit Katja Berlin & Dirk Brockmann
CLASS:PUBLIC
DESCRIPTION:https://calendify.com/session/E304GAmXMxA
DTSTAMP:20260423T174727Z
CREATED:20220530T102805Z
LAST-MODIFIED:20220613T235205Z
END:VEVENT
END:VCALENDAR