BEGIN:VCALENDAR
VERSION:2.0
PRODID:calendify.com
BEGIN:VEVENT
UID:calendify-session-E304GAnZMxA
DTSTART:20220723T164000Z
SEQUENCE:0
TRANSP:OPAQUE
DTEND:20220723T171000Z
URL:https://calendify.com/session/E304GAnZMxA
LOCATION:Battery 🔋
SUMMARY:Electronic Locks: Bumping and Other Mischief
CLASS:PUBLIC
DESCRIPTION:https://calendify.com/session/E304GAnZMxA
DTSTAMP:20260421T055837Z
CREATED:20220620T212434Z
LAST-MODIFIED:20220726T182703Z
END:VEVENT
END:VCALENDAR