BEGIN:VCALENDAR
VERSION:2.0
PRODID:calendify.com
BEGIN:VEVENT
UID:calendify-session-E304GAp1MxA
DTSTART:20220520T164500Z
SEQUENCE:0
TRANSP:OPAQUE
DTEND:20220520T171500Z
URL:https://calendify.com/session/E304GAp1MxA
LOCATION:Vortragssaal
SUMMARY:Kubernetes - The good\, the bad\, the ugly
CLASS:PUBLIC
DESCRIPTION:https://calendify.com/session/E304GAp1MxA
DTSTAMP:20260420T124731Z
CREATED:20220503T003003Z
LAST-MODIFIED:20220521T215002Z
END:VEVENT
END:VCALENDAR