BEGIN:VCALENDAR
VERSION:2.0
PRODID:calendify.com
BEGIN:VEVENT
UID:calendify-session-E304GAypMxA
DTSTART:20220608T144500Z
SEQUENCE:0
TRANSP:OPAQUE
DTEND:20220608T151500Z
URL:https://calendify.com/session/E304GAypMxA
LOCATION:Stage 1
SUMMARY:The wind blows anyway: Erneuerbare Energien als Friedensenergien
CLASS:PUBLIC
DESCRIPTION:https://calendify.com/session/E304GAypMxA
DTSTAMP:20260423T175512Z
CREATED:20220526T162946Z
LAST-MODIFIED:20220613T235204Z
END:VEVENT
END:VCALENDAR