BEGIN:VCALENDAR
VERSION:2.0
PRODID:calendify.com
BEGIN:VEVENT
UID:calendify-session-E304GB8dgxA
DTSTART:20210207T154000Z
SEQUENCE:0
TRANSP:OPAQUE
DTEND:20210207T162500Z
URL:https://calendify.com/session/E304GB8dgxA
LOCATION:D.kotlin
SUMMARY:Getting ready for Declarative UIs with Unidirectional Data Flow usi
 ng Kotlin Coroutines
CLASS:PUBLIC
DESCRIPTION:https://calendify.com/session/E304GB8dgxA
DTSTAMP:20260424T050626Z
CREATED:20210111T170320Z
LAST-MODIFIED:20210208T224804Z
END:VEVENT
END:VCALENDAR