BEGIN:VCALENDAR
VERSION:2.0
PRODID:calendify.com
BEGIN:VEVENT
UID:calendify-session-E304GB8pgxA
DTSTART:20210207T143000Z
SEQUENCE:0
TRANSP:OPAQUE
DTEND:20210207T150000Z
URL:https://calendify.com/session/E304GB8pgxA
LOCATION:D.libreoffice
SUMMARY:Using LibreOffice with MariaDB [and Docker]
CLASS:PUBLIC
DESCRIPTION:https://calendify.com/session/E304GB8pgxA
DTSTAMP:20260419T212428Z
CREATED:20210111T170320Z
LAST-MODIFIED:20210208T224804Z
END:VEVENT
END:VCALENDAR