BEGIN:VCALENDAR
VERSION:2.0
PRODID:calendify.com
BEGIN:VEVENT
UID:calendify-session-E304GBDXgxA
DTSTART:20210207T113000Z
SEQUENCE:0
TRANSP:OPAQUE
DTEND:20210207T120000Z
URL:https://calendify.com/session/E304GBDXgxA
LOCATION:D.python
SUMMARY:AlekSIS
CLASS:PUBLIC
DESCRIPTION:https://calendify.com/session/E304GBDXgxA
DTSTAMP:20260420T000219Z
CREATED:20210114T190815Z
LAST-MODIFIED:20210208T224804Z
END:VEVENT
END:VCALENDAR