BEGIN:VCALENDAR
VERSION:2.0
PRODID:calendify.com
BEGIN:VEVENT
UID:calendify-session-E304GBJpgxA
DTSTART:20210207T161000Z
SEQUENCE:0
TRANSP:OPAQUE
DTEND:20210207T163000Z
URL:https://calendify.com/session/E304GBJpgxA
LOCATION:D.radio
SUMMARY:Improving GNU Radio Accelerator Device Dataflow
CLASS:PUBLIC
DESCRIPTION:https://calendify.com/session/E304GBJpgxA
DTSTAMP:20260419T164926Z
CREATED:20210111T170320Z
LAST-MODIFIED:20210208T224804Z
END:VEVENT
END:VCALENDAR