BEGIN:VCALENDAR
VERSION:2.0
PRODID:calendify.com
BEGIN:VEVENT
UID:calendify-session-E304GBLKgxA
DTSTART:20210206T094500Z
SEQUENCE:0
TRANSP:OPAQUE
DTEND:20210206T103000Z
URL:https://calendify.com/session/E304GBLKgxA
LOCATION:M.community
SUMMARY:Tools and Concepts for Successfully Open Sourcing Your Project
CLASS:PUBLIC
DESCRIPTION:https://calendify.com/session/E304GBLKgxA
DTSTAMP:20260423T031518Z
CREATED:20210114T155442Z
LAST-MODIFIED:20210208T224802Z
END:VEVENT
END:VCALENDAR