BEGIN:VCALENDAR
VERSION:2.0
PRODID:calendify.com
BEGIN:VEVENT
UID:calendify-session-E304GBRNgxA
DTSTART:20210206T095000Z
SEQUENCE:0
TRANSP:OPAQUE
DTEND:20210206T102000Z
URL:https://calendify.com/session/E304GBRNgxA
LOCATION:S.ntop
SUMMARY:ntop @ FOSDEM
CLASS:PUBLIC
DESCRIPTION:https://calendify.com/session/E304GBRNgxA
DTSTAMP:20260423T203754Z
CREATED:20210203T140303Z
LAST-MODIFIED:20210208T224803Z
END:VEVENT
END:VCALENDAR