BEGIN:VCALENDAR
VERSION:2.0
PRODID:calendify.com
BEGIN:VEVENT
UID:calendify-session-E304GBWZgxA
DTSTART:20210206T080000Z
SEQUENCE:0
TRANSP:OPAQUE
DTEND:20210206T082500Z
URL:https://calendify.com/session/E304GBWZgxA
LOCATION:K.fosdem
SUMMARY:Welcome to FOSDEM 2021
CLASS:PUBLIC
DESCRIPTION:https://calendify.com/session/E304GBWZgxA
DTSTAMP:20260423T082921Z
CREATED:20210125T190820Z
LAST-MODIFIED:20210212T144926Z
END:VEVENT
END:VCALENDAR